BEGIN:VCALENDAR
VERSION:2.0
PRODID:-//Delsys - ECPv6.15.17.1//NONSGML v1.0//EN
CALSCALE:GREGORIAN
METHOD:PUBLISH
X-WR-CALNAME:Delsys
X-ORIGINAL-URL:https://delsys.com
X-WR-CALDESC:Events for Delsys
REFRESH-INTERVAL;VALUE=DURATION:PT1H
X-Robots-Tag:noindex
X-PUBLISHED-TTL:PT1H
BEGIN:VTIMEZONE
TZID:Asia/Kolkata
BEGIN:STANDARD
TZOFFSETFROM:+0530
TZOFFSETTO:+0530
TZNAME:IST
DTSTART:20240101T000000
END:STANDARD
END:VTIMEZONE
BEGIN:VEVENT
DTSTART;VALUE=DATE:20251010
DTEND;VALUE=DATE:20251013
DTSTAMP:20260419T141044
CREATED:20250513T185314Z
LAST-MODIFIED:20250513T185333Z
UID:10000024-1760054400-1760313599@delsys.com
SUMMARY:ICSE 2025
DESCRIPTION:The 4th International Conference on Sports Engineering (ICSE 2025) is being jointly organized by Sports Engineering Association\, India and Birla Institute of Technology & Science Pilani\, India In collaboration with INEFC\, Barcelona University\, Spain; Thammasat University\, Thailand and TAR UMT\, Malaysia With technical support from International Sports Engineering Association\, UK; Under the aegis of Ministry of youth affairs and sports\, New Delhi\, India. \nThe ICSE 2025 aims to bring together leading international scholars and practitioners from the fields of sports science and engineering. The conference serves as a platform to showcase innovative ideas and technological advancements that enhance the safety\, performance\, and sustainability of sports through engineering solutions. \nA key focus will be on exploring diverse methodological approaches\, including fieldwork\, observations\, and interactive sessions\, to foster a comprehensive understanding of sports-related challenges and solutions. \nThe carefully curated three-day program is designed to promote knowledge exchange and stimulate meaningful dialogue among researchers. Day one will feature workshops and panel discussions\, providing opportunities for hands-on learning and collaborative exploration of emerging topics. On the second and third days\, the conference will host three distinguished keynote speakers and a series of parallel sessions for paper presentations\, offering in-depth insights into cutting-edge research. \nAdditionally\, the conference provides ample opportunities for informal interactions\, enabling participants to engage in dynamic discussions on various themes aligned with the conference’s overarching focus.
URL:https://delsys.com/event/icse-2025/
LOCATION:Radisson Hotel Gurugram Udyog Vihar\, Adjacent to Plot No. 406\, Nh-8\, Phase 3\, Udyog Vihar\, Guragaon\, Haryana\, 122016\, India
CATEGORIES:Asia
ATTACH;FMTTYPE=image/jpeg:https://delsys.com/wp-content/uploads/2025/05/ICSE-2025_feature.jpg
END:VEVENT
END:VCALENDAR