BEGIN:VCALENDAR
VERSION:2.0
PRODID:-//Delsys - ECPv6.15.17.1//NONSGML v1.0//EN
CALSCALE:GREGORIAN
METHOD:PUBLISH
X-ORIGINAL-URL:https://delsys.com
X-WR-CALDESC:Events for Delsys
REFRESH-INTERVAL;VALUE=DURATION:PT1H
X-Robots-Tag:noindex
X-PUBLISHED-TTL:PT1H
BEGIN:VTIMEZONE
TZID:Europe/Helsinki
BEGIN:DAYLIGHT
TZOFFSETFROM:+0200
TZOFFSETTO:+0300
TZNAME:EEST
DTSTART:20240331T010000
END:DAYLIGHT
BEGIN:STANDARD
TZOFFSETFROM:+0300
TZOFFSETTO:+0200
TZNAME:EET
DTSTART:20241027T010000
END:STANDARD
BEGIN:DAYLIGHT
TZOFFSETFROM:+0200
TZOFFSETTO:+0300
TZNAME:EEST
DTSTART:20250330T010000
END:DAYLIGHT
BEGIN:STANDARD
TZOFFSETFROM:+0300
TZOFFSETTO:+0200
TZNAME:EET
DTSTART:20251026T010000
END:STANDARD
BEGIN:DAYLIGHT
TZOFFSETFROM:+0200
TZOFFSETTO:+0300
TZNAME:EEST
DTSTART:20260329T010000
END:DAYLIGHT
BEGIN:STANDARD
TZOFFSETFROM:+0300
TZOFFSETTO:+0200
TZNAME:EET
DTSTART:20261025T010000
END:STANDARD
END:VTIMEZONE
BEGIN:VTIMEZONE
TZID:Europe/Zurich
BEGIN:DAYLIGHT
TZOFFSETFROM:+0100
TZOFFSETTO:+0200
TZNAME:CEST
DTSTART:20240331T010000
END:DAYLIGHT
BEGIN:STANDARD
TZOFFSETFROM:+0200
TZOFFSETTO:+0100
TZNAME:CET
DTSTART:20241027T010000
END:STANDARD
BEGIN:DAYLIGHT
TZOFFSETFROM:+0100
TZOFFSETTO:+0200
TZNAME:CEST
DTSTART:20250330T010000
END:DAYLIGHT
BEGIN:STANDARD
TZOFFSETFROM:+0200
TZOFFSETTO:+0100
TZNAME:CET
DTSTART:20251026T010000
END:STANDARD
BEGIN:DAYLIGHT
TZOFFSETFROM:+0100
TZOFFSETTO:+0200
TZNAME:CEST
DTSTART:20260329T010000
END:DAYLIGHT
BEGIN:STANDARD
TZOFFSETFROM:+0200
TZOFFSETTO:+0100
TZNAME:CET
DTSTART:20261025T010000
END:STANDARD
END:VTIMEZONE
BEGIN:VTIMEZONE
TZID:Europe/London
BEGIN:DAYLIGHT
TZOFFSETFROM:+0000
TZOFFSETTO:+0100
TZNAME:BST
DTSTART:20240331T010000
END:DAYLIGHT
BEGIN:STANDARD
TZOFFSETFROM:+0100
TZOFFSETTO:+0000
TZNAME:GMT
DTSTART:20241027T010000
END:STANDARD
BEGIN:DAYLIGHT
TZOFFSETFROM:+0000
TZOFFSETTO:+0100
TZNAME:BST
DTSTART:20250330T010000
END:DAYLIGHT
BEGIN:STANDARD
TZOFFSETFROM:+0100
TZOFFSETTO:+0000
TZNAME:GMT
DTSTART:20251026T010000
END:STANDARD
BEGIN:DAYLIGHT
TZOFFSETFROM:+0000
TZOFFSETTO:+0100
TZNAME:BST
DTSTART:20260329T010000
END:DAYLIGHT
BEGIN:STANDARD
TZOFFSETFROM:+0100
TZOFFSETTO:+0000
TZNAME:GMT
DTSTART:20261025T010000
END:STANDARD
END:VTIMEZONE
BEGIN:VTIMEZONE
TZID:America/Mexico_City
BEGIN:STANDARD
TZOFFSETFROM:-0600
TZOFFSETTO:-0600
TZNAME:CST
DTSTART:20240101T000000
END:STANDARD
END:VTIMEZONE
BEGIN:VEVENT
DTSTART;VALUE=DATE:20250908
DTEND;VALUE=DATE:20250912
DTSTAMP:20260419T135944
CREATED:20250820T195505Z
LAST-MODIFIED:20250820T195505Z
UID:10000028-1757289600-1757635199@delsys.com
SUMMARY:2025 IEEE Conference on Telepresence
DESCRIPTION:The Second IEEE Conference on Telepresence\, TELEPRESENCE 2025\, will be held 8-10 September 2025\, in Leiden\, The Netherlands. The conference will provide a stimulating forum for researchers\, educators\, and practitioners to learn\, share knowledge\, report the most recent innovations and developments\, and exchange ideas and advances in all aspects of telepresence systems and applications\, telerobotics\, haptics\, human-machine interfaces\, learning from humans\, and autonomy. Integrative approaches are particularly welcome. TELEPRESENCE 2025 will include keynotes by Prof. Thomas B. Sheridan\, Dr. Serena Ivaldi\, Dr. Jessica Grenouilleau and Prof. Darwin G. Caldwell\, industry panels\, special sessions\, and exhibits to enrich fruitful discussions. In addition to impactful technical interactions\, Leiden offers attendees significant opportunities for social and cultural interactions as well as the opportunity for a Technical Tour of the European Space Research and Technology Center (ESTEC).
URL:https://delsys.com/event/2025-ieee-conference-on-telepresence/
LOCATION:The Stadsgehoorzaal\, Breestraat 60\, Leiden\, 2311 CS\, Netherlands
CATEGORIES:Europe
ATTACH;FMTTYPE=image/jpeg:https://delsys.com/wp-content/uploads/2025/08/IEEE-Telepresence-2025_feature.jpg
END:VEVENT
BEGIN:VEVENT
DTSTART;VALUE=DATE:20250908
DTEND;VALUE=DATE:20250914
DTSTAMP:20260419T135944
CREATED:20250820T201642Z
LAST-MODIFIED:20250820T201642Z
UID:10000030-1757289600-1757807999@delsys.com
SUMMARY:European Society for Movement Analysis in Adults and Children (ESMAC) 2025
DESCRIPTION:During the conference\, the keynote speakers Prof. Annegret Mündermann\, Prof. Georg Rauter\, and Dr. Léonie Asboth will share their clinical and/or technical knowledge with the ESMAC audience. The honoured Baumann lecture\, in memory of Professor Baumann\, will be presented by Prof. Julie Stebbins. \nDuring the 3-days pre-conference Gait Course\, a multidisciplinary international team of experts in gait analysis will guide the attendees through the techniques and interpretation of gait analysis for research and clinical practice. During the days preceding the conference\, we are planning four seminars. \nThe pre-conference seminars and Gait Course will be hosted at the Fachhochschule Nordwestschweiz (FHNW). The FHNW building is a vertical campus\, with an excellent infrastructure and a lot of space for encounters. For the main conference we will continue at the ZLF of the University of Basel (USB)\, which is located in the heart of Basel\, in direct neighborhood to the University Children’s Hospital (UKBB). It is also the place for the welcome reception and opening ceremony. Our Charity run will follow a wonderful course along the river Rhein and part of the Old Town of Basel. We want to make the donation for the «Stiftung pro UKBB»\, which is dedicated to the well-being of sick children and young people.
URL:https://delsys.com/event/european-society-for-movement-analysis-in-adults-and-children-esmac-2025/
LOCATION:University of Basel\, Petersplatz 1\, Basel\, 4051\, Switzerland
CATEGORIES:Europe
ATTACH;FMTTYPE=image/jpeg:https://delsys.com/wp-content/uploads/2025/08/ESMAC-2025_feature.jpg
END:VEVENT
BEGIN:VEVENT
DTSTART;VALUE=DATE:20250910
DTEND;VALUE=DATE:20250912
DTSTAMP:20260419T135944
CREATED:20250820T200531Z
LAST-MODIFIED:20250820T200531Z
UID:10000029-1757462400-1757635199@delsys.com
SUMMARY:Expertise and Skill Acquisition Network
DESCRIPTION:​The Expertise and Skill Acquisition Network (ESAN) organises an interdisciplinary conference encompassing both cutting-edge experimental and applied research within the Expertise\, High-Level Performance\, and Skill Learning domains. ESAN is a not-for-profit organisation that is in its 9th Year. \nThe aim of ESAN is to identify and fill lacunas in Expertise and Skill Learning research whilst simultaneously bridging the gap between theory and practice. \nOur annual meetings are attended by all facets of the Expertise and High Performance Sport community\, including the scientific community\, researchers\, academics\, policy makers\, sports funding strategists\, coaches\, performance analysts\, sports scientists\, sports directors\, and both past and current athletes. The unique coming together of these delegates results in innovative discussions surrounding the bottleneck issues\, recent research advances\, and voids that need to be addressed and updated. We believe there is great benefit to be had in the academic community informing the applied community and\, in turn\, the applied community shaping the research questions of the academic community.
URL:https://delsys.com/event/expertise-and-skill-acquisition-network/
LOCATION:American Express Statium\, Village Way\, Brighton\, BN1 9BL\, United Kingdom
CATEGORIES:Europe
ATTACH;FMTTYPE=image/jpeg:https://delsys.com/wp-content/uploads/2025/08/ESAN-2025_feature.jpg
END:VEVENT
BEGIN:VEVENT
DTSTART;VALUE=DATE:20250917
DTEND;VALUE=DATE:20250919
DTSTAMP:20260419T135944
CREATED:20250820T202602Z
LAST-MODIFIED:20250820T202602Z
UID:10000031-1758067200-1758239999@delsys.com
SUMMARY:Motion Science Summit 2025 - HCG Technologies
DESCRIPTION:The Motion Science Summit is an international event that brings together experts in biomechanics\, ergonomics\, physiotherapy\, sports medicine and movement analysis to discuss technological and scientific advances in the industry. This event offers a unique space for networking and the generation of new business opportunities in the Life Sciences sector.
URL:https://delsys.com/event/motion-science-summit-2025-hcg-technologies/
LOCATION:Iberoamerican University\, Avenida Gomez Farias 880\, Mexico City\, 01376\, Mexico
CATEGORIES:North America
ATTACH;FMTTYPE=image/jpeg:https://delsys.com/wp-content/uploads/2025/08/HCG-Motion-Science-Summit-2025_feature.jpg
END:VEVENT
END:VCALENDAR