BEGIN:VCALENDAR
VERSION:2.0
PRODID:-//Delsys - ECPv6.15.17.1//NONSGML v1.0//EN
CALSCALE:GREGORIAN
METHOD:PUBLISH
X-WR-CALNAME:Delsys
X-ORIGINAL-URL:https://delsys.com
X-WR-CALDESC:Events for Delsys
REFRESH-INTERVAL;VALUE=DURATION:PT1H
X-Robots-Tag:noindex
X-PUBLISHED-TTL:PT1H
BEGIN:VTIMEZONE
TZID:America/New_York
BEGIN:DAYLIGHT
TZOFFSETFROM:-0500
TZOFFSETTO:-0400
TZNAME:EDT
DTSTART:20240310T070000
END:DAYLIGHT
BEGIN:STANDARD
TZOFFSETFROM:-0400
TZOFFSETTO:-0500
TZNAME:EST
DTSTART:20241103T060000
END:STANDARD
BEGIN:DAYLIGHT
TZOFFSETFROM:-0500
TZOFFSETTO:-0400
TZNAME:EDT
DTSTART:20250309T070000
END:DAYLIGHT
BEGIN:STANDARD
TZOFFSETFROM:-0400
TZOFFSETTO:-0500
TZNAME:EST
DTSTART:20251102T060000
END:STANDARD
BEGIN:DAYLIGHT
TZOFFSETFROM:-0500
TZOFFSETTO:-0400
TZNAME:EDT
DTSTART:20260308T070000
END:DAYLIGHT
BEGIN:STANDARD
TZOFFSETFROM:-0400
TZOFFSETTO:-0500
TZNAME:EST
DTSTART:20261101T060000
END:STANDARD
END:VTIMEZONE
BEGIN:VTIMEZONE
TZID:Asia/Kolkata
BEGIN:STANDARD
TZOFFSETFROM:+0530
TZOFFSETTO:+0530
TZNAME:IST
DTSTART:20240101T000000
END:STANDARD
END:VTIMEZONE
BEGIN:VEVENT
DTSTART;VALUE=DATE:20250813
DTEND;VALUE=DATE:20250817
DTSTAMP:20260419T155150
CREATED:20250402T210818Z
LAST-MODIFIED:20250402T210818Z
UID:10000020-1755043200-1755388799@delsys.com
SUMMARY:ASB 2025
DESCRIPTION:The American Society of Biomechanics (ASB) was founded in 1977 to encourage and foster the exchange of information and ideas among biomechanists working in different disciplines and to facilitate the development of biomechanics as a basic and applied science. \nASB has a membership of 1000+ academic researchers\, clinicians\, scientists\, students\, and industry members working to solve basic and applied problems in the realm of biomechanics and to improve understanding of the workings of biological systems. ASB members are organized into five primary discipline categories: biological sciences\, exercise and sports science\, health sciences\, ergonomics and human factors\, and engineering and applied science.
URL:https://delsys.com/event/asb-2025/
LOCATION:David L Lawrence Convention Center\, 1000 Ft Duquesne Blvd.\, Pittsburgh\, PA\, 15222\, United States
CATEGORIES:North America
ATTACH;FMTTYPE=image/jpeg:https://delsys.com/wp-content/uploads/2025/04/ASB-2025_feature.jpg
END:VEVENT
BEGIN:VEVENT
DTSTART;VALUE=DATE:20250829
DTEND;VALUE=DATE:20250830
DTSTAMP:20260419T155150
CREATED:20250820T194011Z
LAST-MODIFIED:20250820T194011Z
UID:10000027-1756425600-1756511999@delsys.com
SUMMARY:Challenges and Opportunities in Human Space Flight
DESCRIPTION:From the historic spaceflight of Yuri Gagarin to the recent return of NASA Astronauts\, Human Space Flight always excited people irrespective of their demographics and nationalities. From the ancient effort of predicting astronomical events to modern space explorers\, human space flight advanced both science and science fiction across the world. While human space flight in the past decade was more like a glamorous affair for leading space agencies\, it is turning a more utilitarian need for many nations for harvesting space resources\, colonizing planets\, setting up space stations and so on. This workshop will discuss opportunities and challenges for human space flight through a series of talks by leading experts in the field. We shall also take efforts on mainstreaming technologies related to human spaceflight by discussing progress in human machine interaction and Artificial Intelligence.
URL:https://delsys.com/event/challenges-and-opportunities-in-human-space-flight/
LOCATION:Indian Institute of Science Bengaluru IDR Building\, 2HF8+666 Devasandra\, Mathikere\, Krishnarajapura\, Bengaluru\, Karnataka\, 560012\, India
CATEGORIES:Asia
ATTACH;FMTTYPE=image/jpeg:https://delsys.com/wp-content/uploads/2025/08/Challenges-and-Opportunities-in-Human-Space-Flight_feature-01.jpg
END:VEVENT
END:VCALENDAR