BEGIN:VCALENDAR
VERSION:2.0
PRODID:-//Delsys - ECPv6.15.17.1//NONSGML v1.0//EN
CALSCALE:GREGORIAN
METHOD:PUBLISH
X-ORIGINAL-URL:https://delsys.com
X-WR-CALDESC:Events for Delsys
REFRESH-INTERVAL;VALUE=DURATION:PT1H
X-Robots-Tag:noindex
X-PUBLISHED-TTL:PT1H
BEGIN:VTIMEZONE
TZID:Europe/Paris
BEGIN:DAYLIGHT
TZOFFSETFROM:+0100
TZOFFSETTO:+0200
TZNAME:CEST
DTSTART:20240331T010000
END:DAYLIGHT
BEGIN:STANDARD
TZOFFSETFROM:+0200
TZOFFSETTO:+0100
TZNAME:CET
DTSTART:20241027T010000
END:STANDARD
BEGIN:DAYLIGHT
TZOFFSETFROM:+0100
TZOFFSETTO:+0200
TZNAME:CEST
DTSTART:20250330T010000
END:DAYLIGHT
BEGIN:STANDARD
TZOFFSETFROM:+0200
TZOFFSETTO:+0100
TZNAME:CET
DTSTART:20251026T010000
END:STANDARD
BEGIN:DAYLIGHT
TZOFFSETFROM:+0100
TZOFFSETTO:+0200
TZNAME:CEST
DTSTART:20260329T010000
END:DAYLIGHT
BEGIN:STANDARD
TZOFFSETFROM:+0200
TZOFFSETTO:+0100
TZNAME:CET
DTSTART:20261025T010000
END:STANDARD
END:VTIMEZONE
BEGIN:VTIMEZONE
TZID:Asia/Kolkata
BEGIN:STANDARD
TZOFFSETFROM:+0530
TZOFFSETTO:+0530
TZNAME:IST
DTSTART:20240101T000000
END:STANDARD
END:VTIMEZONE
BEGIN:VTIMEZONE
TZID:America/New_York
BEGIN:DAYLIGHT
TZOFFSETFROM:-0500
TZOFFSETTO:-0400
TZNAME:EDT
DTSTART:20240310T070000
END:DAYLIGHT
BEGIN:STANDARD
TZOFFSETFROM:-0400
TZOFFSETTO:-0500
TZNAME:EST
DTSTART:20241103T060000
END:STANDARD
BEGIN:DAYLIGHT
TZOFFSETFROM:-0500
TZOFFSETTO:-0400
TZNAME:EDT
DTSTART:20250309T070000
END:DAYLIGHT
BEGIN:STANDARD
TZOFFSETFROM:-0400
TZOFFSETTO:-0500
TZNAME:EST
DTSTART:20251102T060000
END:STANDARD
BEGIN:DAYLIGHT
TZOFFSETFROM:-0500
TZOFFSETTO:-0400
TZNAME:EDT
DTSTART:20260308T070000
END:DAYLIGHT
BEGIN:STANDARD
TZOFFSETFROM:-0400
TZOFFSETTO:-0500
TZNAME:EST
DTSTART:20261101T060000
END:STANDARD
END:VTIMEZONE
BEGIN:VEVENT
DTSTART;VALUE=DATE:20250629
DTEND;VALUE=DATE:20250704
DTSTAMP:20260419T171758
CREATED:20250321T180755Z
LAST-MODIFIED:20250321T180815Z
UID:10000008-1751155200-1751587199@delsys.com
SUMMARY:International Society of Posture & Gait Research (ISPGR) 2025
DESCRIPTION:This year the ISPGR will place a special emphasis on building New Connections from Muscles to Minds to Drive Discoveries in Posture & Gait Research.
URL:https://delsys.com/event/international-society-of-posture-gait-research-ispgr-2025/
LOCATION:Mecc Maastricht\, Forum 100\, Maastricht\, LI\, Netherlands
CATEGORIES:Europe
ATTACH;FMTTYPE=image/jpeg:https://delsys.com/wp-content/uploads/2025/03/ISPGR-2025_feature.jpg
END:VEVENT
BEGIN:VEVENT
DTSTART;VALUE=DATE:20250702
DTEND;VALUE=DATE:20250706
DTSTAMP:20260419T171758
CREATED:20250321T181058Z
LAST-MODIFIED:20250321T181058Z
UID:10000009-1751414400-1751759999@delsys.com
SUMMARY:AIR 2025
DESCRIPTION:Advances in Robotics (AIR) is a series of biennial conferences organized by The Robotics Society (earlier referred to as the Robotics Society of India). The conference aims to create a forum to present and exchange new ideas by researchers and developers from India and abroad working in the fields of robotics and its applications. The conference would have expert talks\, oral and poster presentations\, workshops\, a doctoral symposium\, and special industry-oriented sessions. The organizers of the conference invite unpublished research work in the various fields of Robotics.
URL:https://delsys.com/event/air-2025/
LOCATION:IIT Jodhpur\, NH 65 Naguar Road\, Karwad\, Jodhpur\, 342037\, India
CATEGORIES:Asia
ATTACH;FMTTYPE=image/jpeg:https://delsys.com/wp-content/uploads/2025/03/AIR-2025_feature.jpg
END:VEVENT
BEGIN:VEVENT
DTSTART;TZID=America/New_York:20250716T100000
DTEND;TZID=America/New_York:20250716T120000
DTSTAMP:20260419T171758
CREATED:20250624T120056Z
LAST-MODIFIED:20250624T125437Z
UID:10000026-1752660000-1752667200@delsys.com
SUMMARY:Webinar: Exploring EMG-Driven Engineering Solutions
DESCRIPTION:Engineering research through the lens of electromyography (EMG) has significantly advanced the robustness and reliability of systems that interface with the human body. In fields like human-machine interaction\, rehabilitation robotics\, and extended reality (XR)\, high-quality EMG signals have proven to be an established parameter for gesture recognition\, precise control\, posture analysis\, and muscle fatigue assessment. \nThe Delsys API plays a critical role in this space by enabling seamless EMG streaming into Python\, C#\, and Unity environments. This functionality empowers researchers and developers to build real-time\, low-latency\, and customizable interfaces for a wide range of engineering applications—spanning academia\, OEM development\, and industry innovation. \nThis webinar will feature use cases of the Delsys API in virtual reality\, rehabilitation robotics\, musculoskeletal modelling\, and myoelectric control\, to demonstrate how EMG-driven projects and open-source toolkits are empowering unique integration strategies and real-world implementations. These shared resources aim to accelerate future research by removing common developmental barriers and fostering a more collaborative scientific community.
URL:https://delsys.com/event/webinar-emg-driven-engineering-solutions/
CATEGORIES:Webinar
ATTACH;FMTTYPE=image/jpeg:https://delsys.com/wp-content/uploads/2025/06/Webinar-API_featured.jpg
LOCATION:
END:VEVENT
BEGIN:VEVENT
DTSTART;VALUE=DATE:20250727
DTEND;VALUE=DATE:20250801
DTSTAMP:20260419T171758
CREATED:20250321T184522Z
LAST-MODIFIED:20250321T184522Z
UID:10000011-1753574400-1754006399@delsys.com
SUMMARY:ISB 2025
DESCRIPTION:Since the ISB 2021 Congress\, originally planned for Stockholm\, was completely digital\, it was decided that the ISB 2025 Congress will be held in Stockholm.
URL:https://delsys.com/event/isb-2025/
LOCATION:Stockholm Waterfront Congress Center\, Nils Ericsons plan 4\, Stockholm\, 111 64\, Sweden
CATEGORIES:Europe
ATTACH;FMTTYPE=image/jpeg:https://delsys.com/wp-content/uploads/2025/03/ISB-2025_feature.jpg
END:VEVENT
END:VCALENDAR