BEGIN:VCALENDAR
VERSION:2.0
PRODID:-//Delsys - ECPv6.15.17.1//NONSGML v1.0//EN
CALSCALE:GREGORIAN
METHOD:PUBLISH
X-WR-CALNAME:Delsys
X-ORIGINAL-URL:https://delsys.com
X-WR-CALDESC:Events for Delsys
REFRESH-INTERVAL;VALUE=DURATION:PT1H
X-Robots-Tag:noindex
X-PUBLISHED-TTL:PT1H
BEGIN:VTIMEZONE
TZID:America/New_York
BEGIN:DAYLIGHT
TZOFFSETFROM:-0500
TZOFFSETTO:-0400
TZNAME:EDT
DTSTART:20240310T070000
END:DAYLIGHT
BEGIN:STANDARD
TZOFFSETFROM:-0400
TZOFFSETTO:-0500
TZNAME:EST
DTSTART:20241103T060000
END:STANDARD
BEGIN:DAYLIGHT
TZOFFSETFROM:-0500
TZOFFSETTO:-0400
TZNAME:EDT
DTSTART:20250309T070000
END:DAYLIGHT
BEGIN:STANDARD
TZOFFSETFROM:-0400
TZOFFSETTO:-0500
TZNAME:EST
DTSTART:20251102T060000
END:STANDARD
BEGIN:DAYLIGHT
TZOFFSETFROM:-0500
TZOFFSETTO:-0400
TZNAME:EDT
DTSTART:20260308T070000
END:DAYLIGHT
BEGIN:STANDARD
TZOFFSETFROM:-0400
TZOFFSETTO:-0500
TZNAME:EST
DTSTART:20261101T060000
END:STANDARD
END:VTIMEZONE
BEGIN:VTIMEZONE
TZID:America/New_York
BEGIN:DAYLIGHT
TZOFFSETFROM:-0500
TZOFFSETTO:-0400
TZNAME:EDT
DTSTART:20240310T070000
END:DAYLIGHT
BEGIN:STANDARD
TZOFFSETFROM:-0400
TZOFFSETTO:-0500
TZNAME:EST
DTSTART:20241103T060000
END:STANDARD
BEGIN:DAYLIGHT
TZOFFSETFROM:-0500
TZOFFSETTO:-0400
TZNAME:EDT
DTSTART:20250309T070000
END:DAYLIGHT
BEGIN:STANDARD
TZOFFSETFROM:-0400
TZOFFSETTO:-0500
TZNAME:EST
DTSTART:20251102T060000
END:STANDARD
BEGIN:DAYLIGHT
TZOFFSETFROM:-0500
TZOFFSETTO:-0400
TZNAME:EDT
DTSTART:20260308T070000
END:DAYLIGHT
BEGIN:STANDARD
TZOFFSETFROM:-0400
TZOFFSETTO:-0500
TZNAME:EST
DTSTART:20261101T060000
END:STANDARD
END:VTIMEZONE
BEGIN:VTIMEZONE
TZID:America/Los_Angeles
BEGIN:DAYLIGHT
TZOFFSETFROM:-0800
TZOFFSETTO:-0700
TZNAME:PDT
DTSTART:20240310T100000
END:DAYLIGHT
BEGIN:STANDARD
TZOFFSETFROM:-0700
TZOFFSETTO:-0800
TZNAME:PST
DTSTART:20241103T090000
END:STANDARD
BEGIN:DAYLIGHT
TZOFFSETFROM:-0800
TZOFFSETTO:-0700
TZNAME:PDT
DTSTART:20250309T100000
END:DAYLIGHT
BEGIN:STANDARD
TZOFFSETFROM:-0700
TZOFFSETTO:-0800
TZNAME:PST
DTSTART:20251102T090000
END:STANDARD
BEGIN:DAYLIGHT
TZOFFSETFROM:-0800
TZOFFSETTO:-0700
TZNAME:PDT
DTSTART:20260308T100000
END:DAYLIGHT
BEGIN:STANDARD
TZOFFSETFROM:-0700
TZOFFSETTO:-0800
TZNAME:PST
DTSTART:20261101T090000
END:STANDARD
END:VTIMEZONE
BEGIN:VTIMEZONE
TZID:Europe/Paris
BEGIN:DAYLIGHT
TZOFFSETFROM:+0100
TZOFFSETTO:+0200
TZNAME:CEST
DTSTART:20240331T010000
END:DAYLIGHT
BEGIN:STANDARD
TZOFFSETFROM:+0200
TZOFFSETTO:+0100
TZNAME:CET
DTSTART:20241027T010000
END:STANDARD
BEGIN:DAYLIGHT
TZOFFSETFROM:+0100
TZOFFSETTO:+0200
TZNAME:CEST
DTSTART:20250330T010000
END:DAYLIGHT
BEGIN:STANDARD
TZOFFSETFROM:+0200
TZOFFSETTO:+0100
TZNAME:CET
DTSTART:20251026T010000
END:STANDARD
BEGIN:DAYLIGHT
TZOFFSETFROM:+0100
TZOFFSETTO:+0200
TZNAME:CEST
DTSTART:20260329T010000
END:DAYLIGHT
BEGIN:STANDARD
TZOFFSETFROM:+0200
TZOFFSETTO:+0100
TZNAME:CET
DTSTART:20261025T010000
END:STANDARD
END:VTIMEZONE
BEGIN:VEVENT
DTSTART;TZID=America/New_York:20250609T133000
DTEND;TZID=America/New_York:20250609T153000
DTSTAMP:20260419T185007
CREATED:20250514T040504Z
LAST-MODIFIED:20250617T215217Z
UID:10000025-1749475800-1749483000@delsys.com
SUMMARY:Webinar: Applied Sports
DESCRIPTION:
URL:https://delsys.com/event/webinar-applied-sports/
CATEGORIES:Webinar
ATTACH;FMTTYPE=image/png:https://delsys.com/wp-content/uploads/2025/05/webinar-applied-sports-featured.png
END:VEVENT
BEGIN:VEVENT
DTSTART;VALUE=DATE:20250617
DTEND;VALUE=DATE:20250622
DTSTAMP:20260419T185007
CREATED:20250402T000719Z
LAST-MODIFIED:20250402T000719Z
UID:10000018-1750118400-1750550399@delsys.com
SUMMARY:Gait and Clinical Movement Analysis (GCMAS) Conference
DESCRIPTION:The Gait and Clinical Movement Analysis Society (GCMAS) is a multi-disciplinary organization of physicians\, allied health professionals\, engineers\, biomechanists and scientists working together to advance scientific knowledge\, technical capabilities\, and clinical practice in the field of human movement.
URL:https://delsys.com/event/gait-and-clinical-movement-analysis-gcmas-conference/
LOCATION:Nationwide Children’s Hospital Conference Center\, 520 Butterfly Gardens\, Columbus\, OH\, 43215\, United States
CATEGORIES:North America
ATTACH;FMTTYPE=image/jpeg:https://delsys.com/wp-content/uploads/2025/04/GCMAS-2025_feature.jpg
END:VEVENT
BEGIN:VEVENT
DTSTART;VALUE=DATE:20250627
DTEND;VALUE=DATE:20250630
DTSTAMP:20260419T185007
CREATED:20250402T002111Z
LAST-MODIFIED:20250402T002111Z
UID:10000019-1750982400-1751241599@delsys.com
SUMMARY:Sportsmith - Return to Play Conference 2025
DESCRIPTION:Join us at the brand new and iconic Intuit Dome in Los Angeles for the Sportsmith Return to Play Conference\, focused exclusively on “Optimizing Lower Limb Reconditioning. This premier venue sets the perfect stage for an unforgettable event. \nBringing together 15+ world-class speakers from around the globe—each a distinguished expert in their area—the conference offers a unique opportunity to gain insights from the latest research\, cutting-edge techniques\, and real-world case studies in lower limb return to play. \nDesigned for professionals eager to elevate their expertise\, the conference emphasizes state-of-the-art practices and interdisciplinary collaboration. Attendees will engage with leading minds in the area of return to play\, exchange ideas\, and explore emerging trends in the field. \nSet against the stunning backdrop of Los Angeles\, this event is more than a conference—it’s a transformative gathering for those dedicated to redefining standards in return to play.
URL:https://delsys.com/event/sportsmith-return-to-play-conference-2025/
LOCATION:Intuit Dome\, 3939 W 102nd St\, Inglewood\, CA\, 90303\, United States
CATEGORIES:North America
ATTACH;FMTTYPE=image/jpeg:https://delsys.com/wp-content/uploads/2025/04/Sportsmith-Return-to-Play-2025_feature.jpg
END:VEVENT
BEGIN:VEVENT
DTSTART;VALUE=DATE:20250629
DTEND;VALUE=DATE:20250704
DTSTAMP:20260419T185007
CREATED:20250321T180755Z
LAST-MODIFIED:20250321T180815Z
UID:10000008-1751155200-1751587199@delsys.com
SUMMARY:International Society of Posture & Gait Research (ISPGR) 2025
DESCRIPTION:This year the ISPGR will place a special emphasis on building New Connections from Muscles to Minds to Drive Discoveries in Posture & Gait Research.
URL:https://delsys.com/event/international-society-of-posture-gait-research-ispgr-2025/
LOCATION:Mecc Maastricht\, Forum 100\, Maastricht\, LI\, Netherlands
CATEGORIES:Europe
ATTACH;FMTTYPE=image/jpeg:https://delsys.com/wp-content/uploads/2025/03/ISPGR-2025_feature.jpg
END:VEVENT
END:VCALENDAR