BEGIN:VCALENDAR
VERSION:2.0
PRODID:-//Delsys - ECPv6.15.17.1//NONSGML v1.0//EN
CALSCALE:GREGORIAN
METHOD:PUBLISH
X-WR-CALNAME:Delsys
X-ORIGINAL-URL:https://delsys.com
X-WR-CALDESC:Events for Delsys
REFRESH-INTERVAL;VALUE=DURATION:PT1H
X-Robots-Tag:noindex
X-PUBLISHED-TTL:PT1H
BEGIN:VTIMEZONE
TZID:America/New_York
BEGIN:DAYLIGHT
TZOFFSETFROM:-0500
TZOFFSETTO:-0400
TZNAME:EDT
DTSTART:20240310T070000
END:DAYLIGHT
BEGIN:STANDARD
TZOFFSETFROM:-0400
TZOFFSETTO:-0500
TZNAME:EST
DTSTART:20241103T060000
END:STANDARD
BEGIN:DAYLIGHT
TZOFFSETFROM:-0500
TZOFFSETTO:-0400
TZNAME:EDT
DTSTART:20250309T070000
END:DAYLIGHT
BEGIN:STANDARD
TZOFFSETFROM:-0400
TZOFFSETTO:-0500
TZNAME:EST
DTSTART:20251102T060000
END:STANDARD
BEGIN:DAYLIGHT
TZOFFSETFROM:-0500
TZOFFSETTO:-0400
TZNAME:EDT
DTSTART:20260308T070000
END:DAYLIGHT
BEGIN:STANDARD
TZOFFSETFROM:-0400
TZOFFSETTO:-0500
TZNAME:EST
DTSTART:20261101T060000
END:STANDARD
BEGIN:DAYLIGHT
TZOFFSETFROM:-0500
TZOFFSETTO:-0400
TZNAME:EDT
DTSTART:20270314T070000
END:DAYLIGHT
BEGIN:STANDARD
TZOFFSETFROM:-0400
TZOFFSETTO:-0500
TZNAME:EST
DTSTART:20271107T060000
END:STANDARD
END:VTIMEZONE
BEGIN:VTIMEZONE
TZID:America/Chicago
BEGIN:DAYLIGHT
TZOFFSETFROM:-0600
TZOFFSETTO:-0500
TZNAME:CDT
DTSTART:20250309T080000
END:DAYLIGHT
BEGIN:STANDARD
TZOFFSETFROM:-0500
TZOFFSETTO:-0600
TZNAME:CST
DTSTART:20251102T070000
END:STANDARD
BEGIN:DAYLIGHT
TZOFFSETFROM:-0600
TZOFFSETTO:-0500
TZNAME:CDT
DTSTART:20260308T080000
END:DAYLIGHT
BEGIN:STANDARD
TZOFFSETFROM:-0500
TZOFFSETTO:-0600
TZNAME:CST
DTSTART:20261101T070000
END:STANDARD
BEGIN:DAYLIGHT
TZOFFSETFROM:-0600
TZOFFSETTO:-0500
TZNAME:CDT
DTSTART:20270314T080000
END:DAYLIGHT
BEGIN:STANDARD
TZOFFSETFROM:-0500
TZOFFSETTO:-0600
TZNAME:CST
DTSTART:20271107T070000
END:STANDARD
END:VTIMEZONE
BEGIN:VTIMEZONE
TZID:America/Los_Angeles
BEGIN:DAYLIGHT
TZOFFSETFROM:-0800
TZOFFSETTO:-0700
TZNAME:PDT
DTSTART:20240310T100000
END:DAYLIGHT
BEGIN:STANDARD
TZOFFSETFROM:-0700
TZOFFSETTO:-0800
TZNAME:PST
DTSTART:20241103T090000
END:STANDARD
BEGIN:DAYLIGHT
TZOFFSETFROM:-0800
TZOFFSETTO:-0700
TZNAME:PDT
DTSTART:20250309T100000
END:DAYLIGHT
BEGIN:STANDARD
TZOFFSETFROM:-0700
TZOFFSETTO:-0800
TZNAME:PST
DTSTART:20251102T090000
END:STANDARD
BEGIN:DAYLIGHT
TZOFFSETFROM:-0800
TZOFFSETTO:-0700
TZNAME:PDT
DTSTART:20260308T100000
END:DAYLIGHT
BEGIN:STANDARD
TZOFFSETFROM:-0700
TZOFFSETTO:-0800
TZNAME:PST
DTSTART:20261101T090000
END:STANDARD
BEGIN:DAYLIGHT
TZOFFSETFROM:-0800
TZOFFSETTO:-0700
TZNAME:PDT
DTSTART:20270314T100000
END:DAYLIGHT
BEGIN:STANDARD
TZOFFSETFROM:-0700
TZOFFSETTO:-0800
TZNAME:PST
DTSTART:20271107T090000
END:STANDARD
END:VTIMEZONE
BEGIN:VTIMEZONE
TZID:America/Chicago
BEGIN:DAYLIGHT
TZOFFSETFROM:-0600
TZOFFSETTO:-0500
TZNAME:CDT
DTSTART:20240310T080000
END:DAYLIGHT
BEGIN:STANDARD
TZOFFSETFROM:-0500
TZOFFSETTO:-0600
TZNAME:CST
DTSTART:20241103T070000
END:STANDARD
BEGIN:DAYLIGHT
TZOFFSETFROM:-0600
TZOFFSETTO:-0500
TZNAME:CDT
DTSTART:20250309T080000
END:DAYLIGHT
BEGIN:STANDARD
TZOFFSETFROM:-0500
TZOFFSETTO:-0600
TZNAME:CST
DTSTART:20251102T070000
END:STANDARD
BEGIN:DAYLIGHT
TZOFFSETFROM:-0600
TZOFFSETTO:-0500
TZNAME:CDT
DTSTART:20260308T080000
END:DAYLIGHT
BEGIN:STANDARD
TZOFFSETFROM:-0500
TZOFFSETTO:-0600
TZNAME:CST
DTSTART:20261101T070000
END:STANDARD
END:VTIMEZONE
BEGIN:VTIMEZONE
TZID:America/Mexico_City
BEGIN:STANDARD
TZOFFSETFROM:-0600
TZOFFSETTO:-0600
TZNAME:CST
DTSTART:20240101T000000
END:STANDARD
END:VTIMEZONE
BEGIN:VTIMEZONE
TZID:America/New_York
BEGIN:DAYLIGHT
TZOFFSETFROM:-0500
TZOFFSETTO:-0400
TZNAME:EDT
DTSTART:20240310T070000
END:DAYLIGHT
BEGIN:STANDARD
TZOFFSETFROM:-0400
TZOFFSETTO:-0500
TZNAME:EST
DTSTART:20241103T060000
END:STANDARD
BEGIN:DAYLIGHT
TZOFFSETFROM:-0500
TZOFFSETTO:-0400
TZNAME:EDT
DTSTART:20250309T070000
END:DAYLIGHT
BEGIN:STANDARD
TZOFFSETFROM:-0400
TZOFFSETTO:-0500
TZNAME:EST
DTSTART:20251102T060000
END:STANDARD
BEGIN:DAYLIGHT
TZOFFSETFROM:-0500
TZOFFSETTO:-0400
TZNAME:EDT
DTSTART:20260308T070000
END:DAYLIGHT
BEGIN:STANDARD
TZOFFSETFROM:-0400
TZOFFSETTO:-0500
TZNAME:EST
DTSTART:20261101T060000
END:STANDARD
END:VTIMEZONE
BEGIN:VTIMEZONE
TZID:UTC
BEGIN:STANDARD
TZOFFSETFROM:+0000
TZOFFSETTO:+0000
TZNAME:UTC
DTSTART:20240101T000000
END:STANDARD
END:VTIMEZONE
BEGIN:VTIMEZONE
TZID:America/Vancouver
BEGIN:DAYLIGHT
TZOFFSETFROM:-0800
TZOFFSETTO:-0700
TZNAME:PDT
DTSTART:20240310T100000
END:DAYLIGHT
BEGIN:STANDARD
TZOFFSETFROM:-0700
TZOFFSETTO:-0800
TZNAME:PST
DTSTART:20241103T090000
END:STANDARD
BEGIN:DAYLIGHT
TZOFFSETFROM:-0800
TZOFFSETTO:-0700
TZNAME:PDT
DTSTART:20250309T100000
END:DAYLIGHT
BEGIN:STANDARD
TZOFFSETFROM:-0700
TZOFFSETTO:-0800
TZNAME:PST
DTSTART:20251102T090000
END:STANDARD
BEGIN:DAYLIGHT
TZOFFSETFROM:-0800
TZOFFSETTO:-0700
TZNAME:PDT
DTSTART:20260308T100000
END:DAYLIGHT
BEGIN:STANDARD
TZOFFSETFROM:-0700
TZOFFSETTO:-0800
TZNAME:PST
DTSTART:20261101T090000
END:STANDARD
END:VTIMEZONE
BEGIN:VEVENT
DTSTART;VALUE=DATE:20260409
DTEND;VALUE=DATE:20260411
DTSTAMP:20260419T092052
CREATED:20251201T192230Z
LAST-MODIFIED:20251201T192230Z
UID:10000042-1775692800-1775865599@delsys.com
SUMMARY:Mid-South Biomechanics Conference
DESCRIPTION:This conference will have a large student research focus with podiums\, invited speakers\, and discussions. This event will provide great networking opportunities for undergraduate and graduate students who hope to continue their studies/careers in biomechanics and movement sciences.
URL:https://delsys.com/event/mid-south-biomechanics-conference/
LOCATION:University of Memphis\, 3720 Alumni Ave\, Memphis\, TN\, 38152\, United States
CATEGORIES:North America
ATTACH;FMTTYPE=image/jpeg:https://delsys.com/wp-content/uploads/2025/12/Mid-south-Biomechanics-Conference_featured_2026.jpg
END:VEVENT
BEGIN:VEVENT
DTSTART;VALUE=DATE:20260327
DTEND;VALUE=DATE:20260329
DTSTAMP:20260419T092052
CREATED:20251201T191136Z
LAST-MODIFIED:20251201T191136Z
UID:10000041-1774569600-1774742399@delsys.com
SUMMARY:SCASB 2026
DESCRIPTION:South Central American Society of Biomechanics annual chapter meeting.
URL:https://delsys.com/event/scasb-2026/
LOCATION:Medical Education & Training Building\, UNTHSC\, 1000 Montgomery St\, Fort Worth\, TX\, 76107\, United States
CATEGORIES:North America
ATTACH;FMTTYPE=image/jpeg:https://delsys.com/wp-content/uploads/2025/12/SCASB_featured_2026.jpg
END:VEVENT
BEGIN:VEVENT
DTSTART;VALUE=DATE:20260226
DTEND;VALUE=DATE:20260301
DTSTAMP:20260419T092052
CREATED:20251201T170226Z
LAST-MODIFIED:20251217T164800Z
UID:10000038-1772064000-1772323199@delsys.com
SUMMARY:SEACSM 2026
DESCRIPTION:The 2026 Annual Meeting will be held February 26–28 at the Hyatt Regency Greenville in Greenville\, SC.
URL:https://delsys.com/event/seacsm-2026/
LOCATION:Hyatt Regency Greenville\, 220 North Main Street\, Greenville\, SC\, 29601\, United States
CATEGORIES:North America
ATTACH;FMTTYPE=image/jpeg:https://delsys.com/wp-content/uploads/2025/12/SEACSM_featured_2026.jpg
END:VEVENT
BEGIN:VEVENT
DTSTART;VALUE=DATE:20260226
DTEND;VALUE=DATE:20260228
DTSTAMP:20260419T092052
CREATED:20251204T204904Z
LAST-MODIFIED:20251208T155957Z
UID:10000045-1772064000-1772236799@delsys.com
SUMMARY:Texas ACSM 2026
DESCRIPTION:The purpose of TACSM is to fulfill the objectives and purposes of ACSM as appropriate at the regional level. ACSM is a multi-disciplinary professional and scientific society dedicated to the generation and dissemination of knowledge concerning the motivations\, responses\, adaptations and health aspects of persons engaged in sport and exercise.
URL:https://delsys.com/event/texas-acsm-2026/
LOCATION:Waco Convention Center\, 100 Washington Ave\, Waco\, TX\, 76701\, United States
CATEGORIES:North America
ATTACH;FMTTYPE=image/jpeg:https://delsys.com/wp-content/uploads/2025/12/TACSM-2025_feature.jpg
END:VEVENT
BEGIN:VEVENT
DTSTART;VALUE=DATE:20260212
DTEND;VALUE=DATE:20260215
DTSTAMP:20260419T092052
CREATED:20251201T165454Z
LAST-MODIFIED:20251201T165454Z
UID:10000037-1770854400-1771113599@delsys.com
SUMMARY:APTA CSM 2026
DESCRIPTION:Where innovation\, leadership\, and community converge to advance physical therapy. APTA CSM will take place Feb. 12-14\, 2026\, in Anaheim\, California.
URL:https://delsys.com/event/apta-csm-2026/
LOCATION:Anaheim Convention Center\, 200 S. Anaheim Blvd.\, Anaheim\, CA\, 92805\, United States
CATEGORIES:North America
ATTACH;FMTTYPE=image/jpeg:https://delsys.com/wp-content/uploads/2025/12/APTA_featured_2026.jpg
END:VEVENT
BEGIN:VEVENT
DTSTART;VALUE=DATE:20251025
DTEND;VALUE=DATE:20251031
DTSTAMP:20260419T092052
CREATED:20250402T213013Z
LAST-MODIFIED:20250402T213013Z
UID:10000022-1761350400-1761868799@delsys.com
SUMMARY:American Congress of Rehabilitation Medicine (ACRM) 2025
DESCRIPTION:Two days within the rehabilitation community — an exhibition of innovative rehabilitation technology\, products & services. \n\nACRM EXPO is an innovation hub for recovery\nDive into the latest research\nMeet & interact with exhibitors — products\, services and experts\nTalk with rehabilitation experts\nDiscover the latest trends\, technologies\, products\, solutions and services
URL:https://delsys.com/event/american-congress-of-rehabilitation-medicine-acrm-2025/
LOCATION:Hilton Chicago\, 720 S Michigan Ave\, Chicago\, IL\, 60605\, United States
CATEGORIES:North America
ATTACH;FMTTYPE=image/jpeg:https://delsys.com/wp-content/uploads/2025/04/ACRM-2025_feature.jpg
END:VEVENT
BEGIN:VEVENT
DTSTART;VALUE=DATE:20251017
DTEND;VALUE=DATE:20251018
DTSTAMP:20260419T092052
CREATED:20250820T205512Z
LAST-MODIFIED:20250820T205512Z
UID:10000034-1760659200-1760745599@delsys.com
SUMMARY:Sports MAP - Fast Track the Injured Runner
DESCRIPTION:This event is tailored for experienced clinicians who want to deepen their understanding and enhance their management of running-related injuries. \nDesigned to be highly practical\, this conference will deliver evidence-informed strategies and clinical reasoning tools that attendees can immediately apply in their practice\, whether working with recreational runners or elite athletes.
URL:https://delsys.com/event/sports-map-fast-track-the-injured-runner/
LOCATION:The Track at New Balance\, 91 Guest St\, Boston\, MA\, 02135\, United States
CATEGORIES:North America
ATTACH;FMTTYPE=image/jpeg:https://delsys.com/wp-content/uploads/2025/08/Sports-MAP-Fast-Track-the-Injured-Runner_feature.jpg
END:VEVENT
BEGIN:VEVENT
DTSTART;VALUE=DATE:20251013
DTEND;VALUE=DATE:20251018
DTSTAMP:20260419T092052
CREATED:20250402T212014Z
LAST-MODIFIED:20250402T212014Z
UID:10000021-1760313600-1760745599@delsys.com
SUMMARY:Human Factors and Ergonomics Society (HFES)
DESCRIPTION:The Human Factors and Ergonomics Society (HFES) advances the science and practice of designing for people in systems through knowledge exchange\, collaboration and advocacy.
URL:https://delsys.com/event/human-factors-and-ergonomics-society-hfes/
LOCATION:Hyatt Regency Hotel Chicago\, 151 East Wacker Drive\, Chicago\, IL\, 60601\, United States
CATEGORIES:North America
ATTACH;FMTTYPE=image/jpeg:https://delsys.com/wp-content/uploads/2025/04/HFES-2025_feature-01.jpg
END:VEVENT
BEGIN:VEVENT
DTSTART;VALUE=DATE:20251001
DTEND;VALUE=DATE:20251005
DTSTAMP:20260419T092052
CREATED:20250822T142754Z
LAST-MODIFIED:20250822T142754Z
UID:10000035-1759276800-1759622399@delsys.com
SUMMARY:8th International Patellofemoral Research Retreat & Clinical Symposium
DESCRIPTION:Building on the legacy of the previous retreats\, iPFRR25 will reunite leading researchers and clinicians worldwide. Together\, we’ll share the latest advancements in patellofemoral pain research.
URL:https://delsys.com/event/8th-international-patellofemoral-research-retreat-clinical-symposium/
LOCATION:Starr Center of Mass Eye & Ear\, 185 Cambridge St\, Boston\, MA\, 02114\, United States
CATEGORIES:North America
ATTACH;FMTTYPE=image/jpeg:https://delsys.com/wp-content/uploads/2025/08/IPFRN-2025_feature.jpg
END:VEVENT
BEGIN:VEVENT
DTSTART;VALUE=DATE:20250917
DTEND;VALUE=DATE:20250919
DTSTAMP:20260419T092052
CREATED:20250820T202602Z
LAST-MODIFIED:20250820T202602Z
UID:10000031-1758067200-1758239999@delsys.com
SUMMARY:Motion Science Summit 2025 - HCG Technologies
DESCRIPTION:The Motion Science Summit is an international event that brings together experts in biomechanics\, ergonomics\, physiotherapy\, sports medicine and movement analysis to discuss technological and scientific advances in the industry. This event offers a unique space for networking and the generation of new business opportunities in the Life Sciences sector.
URL:https://delsys.com/event/motion-science-summit-2025-hcg-technologies/
LOCATION:Iberoamerican University\, Avenida Gomez Farias 880\, Mexico City\, 01376\, Mexico
CATEGORIES:North America
ATTACH;FMTTYPE=image/jpeg:https://delsys.com/wp-content/uploads/2025/08/HCG-Motion-Science-Summit-2025_feature.jpg
END:VEVENT
BEGIN:VEVENT
DTSTART;VALUE=DATE:20250813
DTEND;VALUE=DATE:20250817
DTSTAMP:20260419T092052
CREATED:20250402T210818Z
LAST-MODIFIED:20250402T210818Z
UID:10000020-1755043200-1755388799@delsys.com
SUMMARY:ASB 2025
DESCRIPTION:The American Society of Biomechanics (ASB) was founded in 1977 to encourage and foster the exchange of information and ideas among biomechanists working in different disciplines and to facilitate the development of biomechanics as a basic and applied science. \nASB has a membership of 1000+ academic researchers\, clinicians\, scientists\, students\, and industry members working to solve basic and applied problems in the realm of biomechanics and to improve understanding of the workings of biological systems. ASB members are organized into five primary discipline categories: biological sciences\, exercise and sports science\, health sciences\, ergonomics and human factors\, and engineering and applied science.
URL:https://delsys.com/event/asb-2025/
LOCATION:David L Lawrence Convention Center\, 1000 Ft Duquesne Blvd.\, Pittsburgh\, PA\, 15222\, United States
CATEGORIES:North America
ATTACH;FMTTYPE=image/jpeg:https://delsys.com/wp-content/uploads/2025/04/ASB-2025_feature.jpg
END:VEVENT
BEGIN:VEVENT
DTSTART;VALUE=DATE:20250627
DTEND;VALUE=DATE:20250630
DTSTAMP:20260419T092052
CREATED:20250402T002111Z
LAST-MODIFIED:20250402T002111Z
UID:10000019-1750982400-1751241599@delsys.com
SUMMARY:Sportsmith - Return to Play Conference 2025
DESCRIPTION:Join us at the brand new and iconic Intuit Dome in Los Angeles for the Sportsmith Return to Play Conference\, focused exclusively on “Optimizing Lower Limb Reconditioning. This premier venue sets the perfect stage for an unforgettable event. \nBringing together 15+ world-class speakers from around the globe—each a distinguished expert in their area—the conference offers a unique opportunity to gain insights from the latest research\, cutting-edge techniques\, and real-world case studies in lower limb return to play. \nDesigned for professionals eager to elevate their expertise\, the conference emphasizes state-of-the-art practices and interdisciplinary collaboration. Attendees will engage with leading minds in the area of return to play\, exchange ideas\, and explore emerging trends in the field. \nSet against the stunning backdrop of Los Angeles\, this event is more than a conference—it’s a transformative gathering for those dedicated to redefining standards in return to play.
URL:https://delsys.com/event/sportsmith-return-to-play-conference-2025/
LOCATION:Intuit Dome\, 3939 W 102nd St\, Inglewood\, CA\, 90303\, United States
CATEGORIES:North America
ATTACH;FMTTYPE=image/jpeg:https://delsys.com/wp-content/uploads/2025/04/Sportsmith-Return-to-Play-2025_feature.jpg
END:VEVENT
BEGIN:VEVENT
DTSTART;VALUE=DATE:20250617
DTEND;VALUE=DATE:20250622
DTSTAMP:20260419T092052
CREATED:20250402T000719Z
LAST-MODIFIED:20250402T000719Z
UID:10000018-1750118400-1750550399@delsys.com
SUMMARY:Gait and Clinical Movement Analysis (GCMAS) Conference
DESCRIPTION:The Gait and Clinical Movement Analysis Society (GCMAS) is a multi-disciplinary organization of physicians\, allied health professionals\, engineers\, biomechanists and scientists working together to advance scientific knowledge\, technical capabilities\, and clinical practice in the field of human movement.
URL:https://delsys.com/event/gait-and-clinical-movement-analysis-gcmas-conference/
LOCATION:Nationwide Children’s Hospital Conference Center\, 520 Butterfly Gardens\, Columbus\, OH\, 43215\, United States
CATEGORIES:North America
ATTACH;FMTTYPE=image/jpeg:https://delsys.com/wp-content/uploads/2025/04/GCMAS-2025_feature.jpg
END:VEVENT
BEGIN:VEVENT
DTSTART;VALUE=DATE:20250527
DTEND;VALUE=DATE:20250531
DTSTAMP:20260419T092052
CREATED:20250321T174139Z
LAST-MODIFIED:20250321T174139Z
UID:10000005-1748304000-1748649599@delsys.com
SUMMARY:ACSM 2025
DESCRIPTION:ACSM’s vision is to “extend and enrich lives through the power of movement” and ACSM believes striving towards a powerful vision requires many elements including key partnerships. ACSM’s strategic partners in this work include membership in the Physical Activity Alliance whose mission is to lead efforts to create\, support\, and advocate policy and system changes that enable all Americans to enjoy physically active lives and in the Global Alliance for the Promotion of Physical Activity which supports physical activity for the entire population. In support of these critical efforts to make the world a healthier\, more active place\, ACSM’s 2025 Annual Meeting Spotlight will focus on the intersection between basic\, applied and/or clinical science as it relates to their collective impact on the effects of movement on individuals\, populations and society.
URL:https://delsys.com/event/acsm-2025/
LOCATION:Georgia World Congress Center\, 285 Andrew Young International Blvd NW\, Atlanta\, GA\, 30313\, United States
CATEGORIES:North America
ATTACH;FMTTYPE=image/jpeg:https://delsys.com/wp-content/uploads/2025/03/ACSM-2025_feature.jpg
END:VEVENT
BEGIN:VEVENT
DTSTART;VALUE=DATE:20250519
DTEND;VALUE=DATE:20250524
DTSTAMP:20260419T092052
CREATED:20250321T174016Z
LAST-MODIFIED:20250321T174016Z
UID:10000004-1747612800-1748044799@delsys.com
SUMMARY:ICRA 2025
DESCRIPTION:The flagship conference of the IEEE Robotics and Automation Society (RAS)\, ICRA brings together the world’s top researchers and industry leaders to share ideas\, exchange knowledge\, and advance the field of robotics for the benefit of humanity. With a rapidly changing landscape\, it has never been more important to attend this leading industry event.
URL:https://delsys.com/event/icra-2025/
LOCATION:Georgia World Congress Center\, 285 Andrew Young International Blvd NW\, Atlanta\, GA\, 30313\, United States
CATEGORIES:North America
ATTACH;FMTTYPE=image/jpeg:https://delsys.com/wp-content/uploads/2025/03/ICRA-2025_feature.jpg
END:VEVENT
BEGIN:VEVENT
DTSTART;VALUE=DATE:20250519
DTEND;VALUE=DATE:20250521
DTSTAMP:20260419T092052
CREATED:20250401T235729Z
LAST-MODIFIED:20250401T235729Z
UID:10000017-1747612800-1747785599@delsys.com
SUMMARY:2025 Great Plains Biomechanics & Human Movement Variability Conferences
DESCRIPTION:The Great Plains Biomechanics Conference coincides with the Human Movement Variability conference and will have its 6th appearance since 2020. The goal of this conference is to provide a student-centered meeting where the growing field of biomechanics in topics such as vascular mechanics\, robotics\, bioprinting\, and many others is explored through poster and podium sessions and a keynote speaker. The target demographic includes students\, faculty\, and clinicians from states such as Nebraska\, Iowa\, Kansas\, South Dakota\, North Dakota\, Minnesota\, Missouri\, Colorado\, and Oklahoma. This year it will be held on May 19th!
URL:https://delsys.com/event/2025-great-plains-biomechanics-human-movement-variability-conferences/
LOCATION:University of Nebraska Omaha\, 6160 University Drive South\, Omaha\, NE\, 68182\, United States
CATEGORIES:North America
ATTACH;FMTTYPE=image/jpeg:https://delsys.com/wp-content/uploads/2025/04/Human-Movement-Variability-and-Great-Plains-2025_feature.jpg
END:VEVENT
BEGIN:VEVENT
DTSTART;VALUE=DATE:20250512
DTEND;VALUE=DATE:20250517
DTSTAMP:20260419T092052
CREATED:20250321T173802Z
LAST-MODIFIED:20250321T173802Z
UID:10000003-1747008000-1747439999@delsys.com
SUMMARY:Rehab Week 2025
DESCRIPTION:Rehabilitation more than ever is innovating with new insights and technologies\, and needs the expertise of physicians\, scientists\, researchers\, engineers\, technologists\, clinicians\, industry representatives\, and policy makers working together with patients to apply novel research.
URL:https://delsys.com/event/rehab-week-2025/
LOCATION:Sheraton Grand Chicago Riverwalk\, 301 East North Water Street\, Chicago\, IL\, 60611\, United States
CATEGORIES:North America
ATTACH;FMTTYPE=image/jpeg:https://delsys.com/wp-content/uploads/2025/03/Rehabweek-2025_feature.jpg
END:VEVENT
BEGIN:VEVENT
DTSTART;VALUE=DATE:20250502
DTEND;VALUE=DATE:20250504
DTSTAMP:20260419T092052
CREATED:20250401T234530Z
LAST-MODIFIED:20250401T234530Z
UID:10000016-1746144000-1746316799@delsys.com
SUMMARY:Northwest Biomechanics Symposium
DESCRIPTION:The 2025 Northwest Biomechanics Symposium is the 20th annual regional meeting of biomechanists in the Pacific Northwest\, supported by the American Society of Biomechanics. The symposium focuses on student learning\, collaboration\, and knowledge transfer. This year\, the symposium returns to the University of British Columbia in beautiful Vancouver\, BC\, after last being hosted here in 2016. We hope to host a meeting with excellent student presentations and group discussions that celebrate diverse biomechanical research from across our region.
URL:https://delsys.com/event/northwest-biomechanics-symposium/
LOCATION:University of British Columbia Vancouver\, 6200 University Blvd\, Vancouver\, BC\, V6T 1Z4\, Canada
CATEGORIES:North America
ATTACH;FMTTYPE=image/jpeg:https://delsys.com/wp-content/uploads/2025/04/Northwest-Biomechanics-Symposium-2025_feature.jpg
END:VEVENT
BEGIN:VEVENT
DTSTART;VALUE=DATE:20250404
DTEND;VALUE=DATE:20250406
DTSTAMP:20260419T092052
CREATED:20250401T231112Z
LAST-MODIFIED:20250402T210857Z
UID:10000014-1743724800-1743897599@delsys.com
SUMMARY:South Central ASB
DESCRIPTION:The goals of South Central American Society of Biomechanics (SCASB) are: \nTo promote the science of Biomechanics in the south central region of the United States. \nTo provide opportunities for students majoring in biomechanics and related fields to share their research and interact with senior researchers and peers. \nTo foster research collaborations among students and faculty members across institutions of higher education and research.
URL:https://delsys.com/event/south-central-asb/
LOCATION:UNT Health Science Center\, 1000 Montgomery St\, Fort Worth\, 76107\, United States
CATEGORIES:North America
ATTACH;FMTTYPE=image/jpeg:https://delsys.com/wp-content/uploads/2025/04/SCASB-2025_feature.jpg
END:VEVENT
BEGIN:VEVENT
DTSTART;VALUE=DATE:20250213
DTEND;VALUE=DATE:20250216
DTSTAMP:20260419T092052
CREATED:20241228T225138Z
LAST-MODIFIED:20241228T225456Z
UID:10000001-1739404800-1739663999@delsys.com
SUMMARY:APTA Combined Sections Meeting
DESCRIPTION:Join us for the 50th Annual APTA CSM\, Feb. 13-15\, 2025\, in Houston\, Texas\, at the George R. Brown Convention Center. This year\, we’re on a mission to excellence\, pushing boundaries\, and expanding horizons in physical therapy. \nBe a part of the largest physical therapy conference in the nation! Connect with thousands of PTs\, PTAs\, and students\, and explore programming and events you won’t find anywhere else.
URL:https://delsys.com/event/apta-combined-sections-meeting/
LOCATION:George R. Brown Convention Center\, 1001 Avenida De Las Americas\, Houston\, TX\, 77010\, United States
CATEGORIES:North America
END:VEVENT
END:VCALENDAR