BEGIN:VCALENDAR
VERSION:2.0
PRODID:-//Delsys - ECPv6.15.17.1//NONSGML v1.0//EN
CALSCALE:GREGORIAN
METHOD:PUBLISH
X-WR-CALNAME:Delsys
X-ORIGINAL-URL:https://delsys.com
X-WR-CALDESC:Events for Delsys
REFRESH-INTERVAL;VALUE=DURATION:PT1H
X-Robots-Tag:noindex
X-PUBLISHED-TTL:PT1H
BEGIN:VTIMEZONE
TZID:America/New_York
BEGIN:DAYLIGHT
TZOFFSETFROM:-0500
TZOFFSETTO:-0400
TZNAME:EDT
DTSTART:20240310T070000
END:DAYLIGHT
BEGIN:STANDARD
TZOFFSETFROM:-0400
TZOFFSETTO:-0500
TZNAME:EST
DTSTART:20241103T060000
END:STANDARD
BEGIN:DAYLIGHT
TZOFFSETFROM:-0500
TZOFFSETTO:-0400
TZNAME:EDT
DTSTART:20250309T070000
END:DAYLIGHT
BEGIN:STANDARD
TZOFFSETFROM:-0400
TZOFFSETTO:-0500
TZNAME:EST
DTSTART:20251102T060000
END:STANDARD
BEGIN:DAYLIGHT
TZOFFSETFROM:-0500
TZOFFSETTO:-0400
TZNAME:EDT
DTSTART:20260308T070000
END:DAYLIGHT
BEGIN:STANDARD
TZOFFSETFROM:-0400
TZOFFSETTO:-0500
TZNAME:EST
DTSTART:20261101T060000
END:STANDARD
END:VTIMEZONE
BEGIN:VTIMEZONE
TZID:America/Chicago
BEGIN:DAYLIGHT
TZOFFSETFROM:-0600
TZOFFSETTO:-0500
TZNAME:CDT
DTSTART:20240310T080000
END:DAYLIGHT
BEGIN:STANDARD
TZOFFSETFROM:-0500
TZOFFSETTO:-0600
TZNAME:CST
DTSTART:20241103T070000
END:STANDARD
BEGIN:DAYLIGHT
TZOFFSETFROM:-0600
TZOFFSETTO:-0500
TZNAME:CDT
DTSTART:20250309T080000
END:DAYLIGHT
BEGIN:STANDARD
TZOFFSETFROM:-0500
TZOFFSETTO:-0600
TZNAME:CST
DTSTART:20251102T070000
END:STANDARD
BEGIN:DAYLIGHT
TZOFFSETFROM:-0600
TZOFFSETTO:-0500
TZNAME:CDT
DTSTART:20260308T080000
END:DAYLIGHT
BEGIN:STANDARD
TZOFFSETFROM:-0500
TZOFFSETTO:-0600
TZNAME:CST
DTSTART:20261101T070000
END:STANDARD
END:VTIMEZONE
BEGIN:VEVENT
DTSTART;VALUE=DATE:20251001
DTEND;VALUE=DATE:20251005
DTSTAMP:20260419T091331
CREATED:20250822T142754Z
LAST-MODIFIED:20250822T142754Z
UID:10000035-1759276800-1759622399@delsys.com
SUMMARY:8th International Patellofemoral Research Retreat & Clinical Symposium
DESCRIPTION:Building on the legacy of the previous retreats\, iPFRR25 will reunite leading researchers and clinicians worldwide. Together\, we’ll share the latest advancements in patellofemoral pain research.
URL:https://delsys.com/event/8th-international-patellofemoral-research-retreat-clinical-symposium/
LOCATION:Starr Center of Mass Eye & Ear\, 185 Cambridge St\, Boston\, MA\, 02114\, United States
CATEGORIES:North America
ATTACH;FMTTYPE=image/jpeg:https://delsys.com/wp-content/uploads/2025/08/IPFRN-2025_feature.jpg
END:VEVENT
BEGIN:VEVENT
DTSTART;VALUE=DATE:20251013
DTEND;VALUE=DATE:20251018
DTSTAMP:20260419T091331
CREATED:20250402T212014Z
LAST-MODIFIED:20250402T212014Z
UID:10000021-1760313600-1760745599@delsys.com
SUMMARY:Human Factors and Ergonomics Society (HFES)
DESCRIPTION:The Human Factors and Ergonomics Society (HFES) advances the science and practice of designing for people in systems through knowledge exchange\, collaboration and advocacy.
URL:https://delsys.com/event/human-factors-and-ergonomics-society-hfes/
LOCATION:Hyatt Regency Hotel Chicago\, 151 East Wacker Drive\, Chicago\, IL\, 60601\, United States
CATEGORIES:North America
ATTACH;FMTTYPE=image/jpeg:https://delsys.com/wp-content/uploads/2025/04/HFES-2025_feature-01.jpg
END:VEVENT
BEGIN:VEVENT
DTSTART;VALUE=DATE:20251017
DTEND;VALUE=DATE:20251018
DTSTAMP:20260419T091331
CREATED:20250820T205512Z
LAST-MODIFIED:20250820T205512Z
UID:10000034-1760659200-1760745599@delsys.com
SUMMARY:Sports MAP - Fast Track the Injured Runner
DESCRIPTION:This event is tailored for experienced clinicians who want to deepen their understanding and enhance their management of running-related injuries. \nDesigned to be highly practical\, this conference will deliver evidence-informed strategies and clinical reasoning tools that attendees can immediately apply in their practice\, whether working with recreational runners or elite athletes.
URL:https://delsys.com/event/sports-map-fast-track-the-injured-runner/
LOCATION:The Track at New Balance\, 91 Guest St\, Boston\, MA\, 02135\, United States
CATEGORIES:North America
ATTACH;FMTTYPE=image/jpeg:https://delsys.com/wp-content/uploads/2025/08/Sports-MAP-Fast-Track-the-Injured-Runner_feature.jpg
END:VEVENT
BEGIN:VEVENT
DTSTART;VALUE=DATE:20251025
DTEND;VALUE=DATE:20251031
DTSTAMP:20260419T091331
CREATED:20250402T213013Z
LAST-MODIFIED:20250402T213013Z
UID:10000022-1761350400-1761868799@delsys.com
SUMMARY:American Congress of Rehabilitation Medicine (ACRM) 2025
DESCRIPTION:Two days within the rehabilitation community — an exhibition of innovative rehabilitation technology\, products & services. \n\nACRM EXPO is an innovation hub for recovery\nDive into the latest research\nMeet & interact with exhibitors — products\, services and experts\nTalk with rehabilitation experts\nDiscover the latest trends\, technologies\, products\, solutions and services
URL:https://delsys.com/event/american-congress-of-rehabilitation-medicine-acrm-2025/
LOCATION:Hilton Chicago\, 720 S Michigan Ave\, Chicago\, IL\, 60605\, United States
CATEGORIES:North America
ATTACH;FMTTYPE=image/jpeg:https://delsys.com/wp-content/uploads/2025/04/ACRM-2025_feature.jpg
END:VEVENT
END:VCALENDAR