BEGIN:VCALENDAR
VERSION:2.0
PRODID:-//Delsys - ECPv6.15.17.1//NONSGML v1.0//EN
CALSCALE:GREGORIAN
METHOD:PUBLISH
X-ORIGINAL-URL:https://delsys.com
X-WR-CALDESC:Events for Delsys
REFRESH-INTERVAL;VALUE=DURATION:PT1H
X-Robots-Tag:noindex
X-PUBLISHED-TTL:PT1H
BEGIN:VTIMEZONE
TZID:Europe/Stockholm
BEGIN:DAYLIGHT
TZOFFSETFROM:+0100
TZOFFSETTO:+0200
TZNAME:CEST
DTSTART:20250330T010000
END:DAYLIGHT
BEGIN:STANDARD
TZOFFSETFROM:+0200
TZOFFSETTO:+0100
TZNAME:CET
DTSTART:20251026T010000
END:STANDARD
BEGIN:DAYLIGHT
TZOFFSETFROM:+0100
TZOFFSETTO:+0200
TZNAME:CEST
DTSTART:20260329T010000
END:DAYLIGHT
BEGIN:STANDARD
TZOFFSETFROM:+0200
TZOFFSETTO:+0100
TZNAME:CET
DTSTART:20261025T010000
END:STANDARD
BEGIN:DAYLIGHT
TZOFFSETFROM:+0100
TZOFFSETTO:+0200
TZNAME:CEST
DTSTART:20270328T010000
END:DAYLIGHT
BEGIN:STANDARD
TZOFFSETFROM:+0200
TZOFFSETTO:+0100
TZNAME:CET
DTSTART:20271031T010000
END:STANDARD
END:VTIMEZONE
BEGIN:VEVENT
DTSTART;VALUE=DATE:20260624
DTEND;VALUE=DATE:20260628
DTSTAMP:20260419T121944
CREATED:20251218T160516Z
LAST-MODIFIED:20251218T160516Z
UID:10000047-1782259200-1782604799@delsys.com
SUMMARY:ISEK 2026
DESCRIPTION:The International Society of Electrophysiology and Kinesiology (ISEK) is a multidisciplinary organization composed of members from all over the world in health-related fields and basic science with a common desire to study human movement and the neuromuscular system. \nThe purpose of the Society is to promote research and teaching in the disciplines of Electrophysiology and Kinesiology in normal\, experimental and pathological conditions of the sensory and motor systems\, with emphasis on the interactive use of the two disciplines.
URL:https://delsys.com/event/isek-2026/
LOCATION:Paviljonki\, Lutakonaukio 12\, Jyväskylä\, 40100\, Finland
CATEGORIES:Europe
ATTACH;FMTTYPE=image/jpeg:https://delsys.com/wp-content/uploads/2025/12/ISEK_featured_2026.jpg
END:VEVENT
END:VCALENDAR